BEGIN:VCALENDAR
VERSION:2.0
PRODID:icalendar-ruby
CALSCALE:GREGORIAN
METHOD:PUBLISH
BEGIN:VEVENT
DTSTAMP:20260420T184236Z
UID:260-1877735@asburyabq.org
DTSTART:20260428T234500Z
DTEND:20260429T010000Z
CLASS:PUBLIC
CREATED:20260408T134017
DESCRIPTION:
LAST-MODIFIED:20260408T134017
LOCATION:
SUMMARY:Church Council Meeting 
URL;VALUE=URI:https://asburyabq.org/events/church-council-meeting--260/2026
 -04-28
END:VEVENT
END:VCALENDAR
