BEGIN:VCALENDAR
VERSION:2.0
PRODID:icalendar-ruby
CALSCALE:GREGORIAN
METHOD:PUBLISH
BEGIN:VEVENT
DTSTAMP:20260420T133904Z
UID:258-1792926@asburyabq.org
DTSTART:20260422T153000Z
DTEND:20260422T180000Z
CLASS:PUBLIC
CREATED:20260326T132117
DESCRIPTION:
LAST-MODIFIED:20260326T132117
LOCATION:Amazon Fulfillment Center
SUMMARY:Sages Field Trip to Amazon
URL;VALUE=URI:https://asburyabq.org/events/sages-field-trip-to-amazon/2026-
 04-22
END:VEVENT
END:VCALENDAR
