BEGIN:VCALENDAR
VERSION:2.0
PRODID:icalendar-ruby
CALSCALE:GREGORIAN
METHOD:PUBLISH
BEGIN:VEVENT
DTSTAMP:20260423T203430Z
UID:13-1976905@asburyabq.org
DTSTART:20261015T003000Z
DTEND:20261015T013000Z
CLASS:PUBLIC
CREATED:20260423T121331
DESCRIPTION:Sign Language Class
LAST-MODIFIED:20260423T121331
LOCATION:Call Mary Webb for details 505.293.1502
SUMMARY:Sign Language Class
URL;VALUE=URI:https://asburyabq.org/events/sign-language-class/2026-10-14
END:VEVENT
END:VCALENDAR
