BEGIN:VCALENDAR
VERSION:2.0
PRODID:icalendar-ruby
CALSCALE:GREGORIAN
METHOD:PUBLISH
BEGIN:VEVENT
DTSTAMP:20260424T002914Z
UID:13-1979149@asburyabq.org
DTSTART:20261029T003000Z
DTEND:20261029T013000Z
CLASS:PUBLIC
CREATED:20260423T180201
DESCRIPTION:Sign Language Class
LAST-MODIFIED:20260423T180201
LOCATION:Call Mary Webb for details 505.293.1502
SUMMARY:Sign Language Class
URL;VALUE=URI:https://asburyabq.org/events/sign-language-class/2026-10-28
END:VEVENT
END:VCALENDAR
