BEGIN:VCALENDAR
VERSION:2.0
PRODID:icalendar-ruby
CALSCALE:GREGORIAN
METHOD:PUBLISH
BEGIN:VEVENT
DTSTAMP:20260424T023927Z
UID:13-1979150@asburyabq.org
DTSTART:20261105T013000Z
DTEND:20261105T023000Z
CLASS:PUBLIC
CREATED:20260423T180201
DESCRIPTION:Sign Language Class
LAST-MODIFIED:20260423T180201
LOCATION:Call Mary Webb for details 505.293.1502
SUMMARY:Sign Language Class
URL;VALUE=URI:https://asburyabq.org/events/sign-language-class/2026-11-04
END:VEVENT
END:VCALENDAR
