BEGIN:VCALENDAR
VERSION:2.0
PRODID:icalendar-ruby
CALSCALE:GREGORIAN
METHOD:PUBLISH
BEGIN:VEVENT
DTSTAMP:20260422T203442Z
UID:203-1970870@asburyabq.org
DTSTART:20261011T170000Z
DTEND:20261011T180000Z
CLASS:PUBLIC
CREATED:20260422T121329
DESCRIPTION:
LAST-MODIFIED:20260422T121329
LOCATION:Sanctuary
SUMMARY:Traditional Worship Service
URL;VALUE=URI:https://asburyabq.org/events/traditional-worship-service--203
 /2026-10-11
END:VEVENT
END:VCALENDAR
