BEGIN:VCALENDAR
VERSION:2.0
PRODID:icalendar-ruby
CALSCALE:GREGORIAN
METHOD:PUBLISH
BEGIN:VEVENT
DTSTAMP:20260422T221557Z
UID:203-1971991@asburyabq.org
DTSTART:20261018T170000Z
DTEND:20261018T180000Z
CLASS:PUBLIC
CREATED:20260422T150838
DESCRIPTION:
LAST-MODIFIED:20260422T150838
LOCATION:Sanctuary
SUMMARY:Traditional Worship Service
URL;VALUE=URI:https://asburyabq.org/events/traditional-worship-service--203
 /2026-10-18
END:VEVENT
END:VCALENDAR
