BEGIN:VCALENDAR
VERSION:2.0
PRODID:icalendar-ruby
CALSCALE:GREGORIAN
METHOD:PUBLISH
BEGIN:VEVENT
DTSTAMP:20260423T021747Z
UID:203-1973113@asburyabq.org
DTSTART:20261101T180000Z
DTEND:20261101T190000Z
CLASS:PUBLIC
CREATED:20260422T180021
DESCRIPTION:
LAST-MODIFIED:20260422T180021
LOCATION:Sanctuary
SUMMARY:Traditional Worship Service
URL;VALUE=URI:https://asburyabq.org/events/traditional-worship-service--203
 /2026-11-01
END:VEVENT
END:VCALENDAR
